BEGIN:VCALENDAR
VERSION:2.0
PRODID:-//ChamberMaster//Event Calendar 2.0//EN
METHOD:PUBLISH
X-PUBLISHED-TTL:P3D
REFRESH-INTERVAL:P3D
CALSCALE:GREGORIAN
BEGIN:VEVENT
DTSTART:20230425T130000Z
DTEND:20230425T200000Z
X-MICROSOFT-CDO-ALLDAYEVENT:FALSE
SUMMARY:4th Grade Ag Fair
DESCRIPTION:The fair's purpose is to teach 4th grade students about the importance of agriculture in their daily lives. Students attend and experience six areas of agriculture including sheep and swine\, farm safety\, beef cattle\, horses\, dairy cattle\, and crops. The Chamber partners with the Groton FFA for this event.
X-ALT-DESC;FMTTYPE=text/html:<span style="font-size:14px\;"><span style="color: rgb(10\, 10\, 10)\; font-family: neue-haas-unica\, sans-serif\; background-color: rgb(254\, 254\, 254)\;">The fair&rsquo\;s purpose is to teach 4th grade students about the importance of agriculture in their daily lives. Students attend and experience six areas of agriculture including sheep and swine\, farm safety\, beef cattle\, horses\, dairy cattle\, and crops. The Chamber partners with the Groton FFA for this event.</span></span>
LOCATION:Brown County Fairgrounds
UID:e.3086.7440
SEQUENCE:3
DTSTAMP:20260420T082548Z
URL:https://business.aberdeen-chamber.com/events/details/4th-grade-ag-fair-7440
END:VEVENT

END:VCALENDAR
