BEGIN:VCALENDAR
VERSION:2.0
PRODID:-//ChamberMaster//Event Calendar 2.0//EN
METHOD:PUBLISH
X-PUBLISHED-TTL:P3D
REFRESH-INTERVAL:P3D
CALSCALE:GREGORIAN
BEGIN:VEVENT
DTSTART:20251125T160000Z
DTEND:20251125T170000Z
X-MICROSOFT-CDO-ALLDAYEVENT:FALSE
SUMMARY:2026 Aberdeen Day Planning Meeting
DESCRIPTION:
X-ALT-DESC;FMTTYPE=text/html:
LOCATION:
UID:e.3086.9636
SEQUENCE:3
DTSTAMP:20260419T141924Z
URL:https://business.aberdeen-chamber.com/events/details/2026-aberdeen-day-planning-meeting-9636
END:VEVENT

END:VCALENDAR
