BEGIN:VCALENDAR
VERSION:2.0
PRODID:-//ChamberMaster//Event Calendar 2.0//EN
METHOD:PUBLISH
X-PUBLISHED-TTL:P3D
REFRESH-INTERVAL:P3D
CALSCALE:GREGORIAN
BEGIN:VEVENT
DTSTART:20250129T220000Z
DTEND:20250129T230000Z
X-MICROSOFT-CDO-ALLDAYEVENT:FALSE
SUMMARY:2025 Burger Battle Planning Meeting
DESCRIPTION:it's back for the 3rd year in a row! - The Aberdeen Burger Battle!
X-ALT-DESC;FMTTYPE=text/html:it&#39\;s back for the 3rd year in a row! - The Aberdeen Burger Battle!
LOCATION:Chamber Conference Room\, 514 S Main St.
UID:e.3086.9355
SEQUENCE:3
DTSTAMP:20260420T011524Z
URL:https://business.aberdeen-chamber.com/events/details/2025-burger-battle-planning-meeting-9355
END:VEVENT

END:VCALENDAR
