BEGIN:VCALENDAR
VERSION:2.0
PRODID:-//ChamberMaster//Event Calendar 2.0//EN
METHOD:PUBLISH
X-PUBLISHED-TTL:P3D
REFRESH-INTERVAL:P3D
CALSCALE:GREGORIAN
BEGIN:VEVENT
DTSTART;VALUE=DATE:20250429
DTEND;VALUE=DATE:20250430
TRANSP:TRANSPARENT
X-MICROSOFT-CDO-ALLDAYEVENT:TRUE
SUMMARY:2025 4th Grade Ag Fair
DESCRIPTION:The fair's purpose is to teach 4th grade students about the importance of agriculture in their daily lives. Students attend and experience six areas of agriculture including sheep and swine\, farm safety\, beef cattle\, horses\, dairy cattle\, and crops. The Chamber partners with the Groton FFA \, Agtegra and the South Dakota Soil Health Coalition for this event.
X-ALT-DESC;FMTTYPE=text/html:<span style="color: rgb(10\, 10\, 10)\; font-family: neue-haas-unica\, sans-serif\; font-size: 14px\; background-color: rgb(254\, 254\, 254)\;">The fair&rsquo\;s purpose is to teach 4th grade students about the importance of agriculture in their daily lives. Students attend and experience six areas of agriculture including sheep and swine\, farm safety\, beef cattle\, horses\, dairy cattle\, and crops. The Chamber partners with the Groton FFA \, Agtegra and the South Dakota Soil Health Coalition for this event.</span>
LOCATION:Brown County Fairgrounds
UID:e.3086.9352
SEQUENCE:3
DTSTAMP:20260422T010917Z
URL:https://business.aberdeen-chamber.com/events/details/2025-4th-grade-ag-fair-9352
END:VEVENT

END:VCALENDAR
