BEGIN:VCALENDAR
VERSION:2.0
PRODID:-//ChamberMaster//Event Calendar 2.0//EN
METHOD:PUBLISH
X-PUBLISHED-TTL:P3D
REFRESH-INTERVAL:P3D
CALSCALE:GREGORIAN
BEGIN:VEVENT
DTSTART:20210513T221500Z
DTEND:20210514T000000Z
X-MICROSOFT-CDO-ALLDAYEVENT:FALSE
SUMMARY:2021 May Business After Hours Mixer
DESCRIPTION:Join us on Thursday\, May 13th from 5:15 to 7\;00 pm at the Yelduz Shrine for the second Business After Hours mixer of 2021. They are hosting the event\, with sponsors including: Blackout Ind.\, JDH Construction\, and Wireless World.\n\n\n\nThe Aberdeen Area Chamber of Commerce sponsors a Business After Hours networking mixer each month from 5:15 to 7 pm at various business locations.\n\n\n\nThe event is held to encourage networking among the city's business leadership and employees. It is an ideal way to establish contacts and build relationships with fellow businessmen and women.\n\n\n\nThese mixers attract 150 to 200 people and allow members to get better acquainted with your business in an informal setting
X-ALT-DESC;FMTTYPE=text/html:<span style="font-size:14px\;"><span style="font-family:arial\;"><strong>Join us on Thursday\, May 13th from 5:15 to 7\;00 pm at the Yelduz Shrine for the second Business After Hours mixer of 2021. They are hosting the event\, with sponsors including: Blackout Ind.\, JDH Construction\, and Wireless World.</strong><br />\n<br />\nThe<span style="color: rgb(44\, 44\, 44)\; background-color: rgb(255\, 255\, 255)\;">&nbsp\;Aberdeen Area Chamber of Commerce sponsors a Business After Hours networking mixer each month from 5:15 to 7 pm at various business locations.<br />\n<br />\nThe event is held to encourage networking among the city&#39\;s business leadership and employees. It is an ideal way to establish contacts and build relationships with fellow businessmen and women.<br />\n<br />\nThese mixers attract 150 to 200 people and allow members to get better acquainted with your business in an informal setting</span></span></span>
LOCATION:Yelduz Shrine Center
UID:e.3086.6898
SEQUENCE:3
DTSTAMP:20260421T200223Z
URL:https://business.aberdeen-chamber.com/events/details/2021-may-business-after-hours-mixer-6898
END:VEVENT

END:VCALENDAR
