BEGIN:VCALENDAR
VERSION:2.0
PRODID:-//ChamberMaster//Event Calendar 2.0//EN
METHOD:PUBLISH
X-PUBLISHED-TTL:P3D
REFRESH-INTERVAL:P3D
CALSCALE:GREGORIAN
BEGIN:VEVENT
DTSTART:20210130T160000Z
DTEND:20210130T180000Z
X-MICROSOFT-CDO-ALLDAYEVENT:FALSE
SUMMARY:2021 Legislative Cracker Barrel
DESCRIPTION:The Chamber hosts four legislative cracker barrels each legislative session. South Dakota Legislators from Districts 1\, 2\,  and 3 representing Brown County are invited to attend. \n\nEnsuring that laws and legislation remain conducive to Aberdeen's healthy and vibrant business climate is a top priority for the Aberdeen Area Chamber. Providing this type of structure for business leaders to communicate effectively with government is just one of the opportunities we provide our members and the Aberdeen community.\n\n\n\nCracker Barrel sessions are open to the public and offer an excellent opportunity for legislators and their constituents to publicly discuss issues of importance and stay up to date on top business\, civic\, and social priorities. \n\nThis is the first Cracker Barrels of the year\, with others being held on the following Saturday mornings in the Jewett Theatre within the Johnson Fine Arts Center on the campus of Northern State University from 10:00 am - 12:00 pm.\n\n\n	February 6\, 2021\n	February 13\, 2021\n	March 6\, 2021\n\n\nNSU is at Level 3 status which requires face coverings in all indoor public spaces\, per SD Board of Regents policy. There will be plenty of room for social distancing. No food or drinks will be allowed in the theatre.
X-ALT-DESC;FMTTYPE=text/html:<p style="box-sizing: border-box\; margin-bottom: 1.4em\; border: 0px none\; color: rgb(44\, 44\, 44)\; font-family: Arial\; font-size: 14px\; background-color: rgb(255\, 255\, 255)\;"><span style="font-size:14px\;">The Chamber hosts four legislative cracker barrels each legislative session. South Dakota Legislators from Districts 1\, 2\, &nbsp\;and 3 representing Brown County are invited to attend.&nbsp\;</span></p>\n\n<p style="box-sizing: border-box\; margin-bottom: 1.4em\; border: 0px none\; color: rgb(44\, 44\, 44)\; font-family: Arial\; font-size: 14px\; background-color: rgb(255\, 255\, 255)\;"><span style="font-size:14px\;">Ensuring that laws and legislation remain conducive to Aberdeen&#39\;s healthy and vibrant business climate is a top priority for the Aberdeen Area Chamber. Providing this type of structure for business leaders to communicate effectively with government is just one of the opportunities we provide our members and the Aberdeen community.<br style="box-sizing: border-box\;" />\n<br style="box-sizing: border-box\;" />\nCracker Barrel sessions are open to the public and offer an excellent opportunity for legislators and their constituents to publicly discuss issues of importance and stay up to date on top business\, civic\, and social priorities.&nbsp\;</span></p>\n\n<p style="box-sizing: border-box\; margin-bottom: 1.4em\; border: 0px none\; color: rgb(44\, 44\, 44)\; font-family: Arial\; font-size: 14px\; background-color: rgb(255\, 255\, 255)\;"><span style="font-size:14px\;">This is the first Cracker Barrels of the year\, with others being held&nbsp\;on the following Saturday mornings in the Jewett Theatre within the Johnson Fine Arts Center on the campus of Northern State University from 10:00 am - 12:00 pm.</span></p>\n\n<ul style="box-sizing: border-box\; margin: 0px 0px 1.4em\; padding: 0px 0px 0px 2em\; color: rgb(44\, 44\, 44)\; font-family: Arial\; font-size: 14px\; background-color: rgb(255\, 255\, 255)\;">\n	<li style="box-sizing: border-box\; margin-bottom: 0.35em\; border: 0px none\;"><span style="font-size:14px\;">February 6\, 2021</span></li>\n	<li style="box-sizing: border-box\; margin-bottom: 0.35em\; border: 0px none\;"><span style="font-size:14px\;">February 13\, 2021</span></li>\n	<li style="box-sizing: border-box\; margin-bottom: 0.35em\; border: 0px none\;"><span style="font-size:14px\;">March 6\, 2021</span></li>\n</ul>\n\n<p style="box-sizing: border-box\; margin-bottom: 1.4em\; border: 0px none\; color: rgb(44\, 44\, 44)\; font-family: Arial\; font-size: 14px\; background-color: rgb(255\, 255\, 255)\;">NSU is at Level 3 status which requires face coverings in all indoor public spaces\, per SD Board of Regents policy. There&nbsp\;<span style="font-size:14px\;">will be plenty of room for social distancing. No food or drinks will be allowed in the theatre.</span></p>\n
LOCATION:Northern State University Jewett Theatre - Johnson Fine Arts Center 23 12th Ave. SE Aberdeen\, SD 57401
UID:e.3086.6476
SEQUENCE:3
DTSTAMP:20260421T115541Z
URL:https://business.aberdeen-chamber.com/events/details/2021-legislative-cracker-barrel-6476
END:VEVENT

END:VCALENDAR
