BEGIN:VCALENDAR
VERSION:2.0
PRODID:-//ChamberMaster//Event Calendar 2.0//EN
METHOD:PUBLISH
X-PUBLISHED-TTL:P3D
REFRESH-INTERVAL:P3D
CALSCALE:GREGORIAN
BEGIN:VEVENT
DTSTART:20250716T130000Z
DTEND:20250716T143000Z
X-MICROSOFT-CDO-ALLDAYEVENT:FALSE
SUMMARY:Board of Directors Meeting
DESCRIPTION:The Board of Directors represent the business and professional leadership in the community.
X-ALT-DESC;FMTTYPE=text/html:<span style="font-size:14px\;"><span style="font-family:arial\;">The Board of Directors represent the business and professional leadership in the community.&nbsp\;</span></span>
LOCATION:Chamber Conference Room or Zoom: https://us06web.zoom.us/j/81810355647 Meeting ID: 818 1035 5647 One tap mobile: +16694449171\,\,81810355647#
UID:e.3086.6558
SEQUENCE:3
DTSTAMP:20260419T162750Z
URL:https://business.aberdeen-chamber.com/events/details/2021-full-board-meeting-07-16-2025-6558
END:VEVENT

END:VCALENDAR
