BEGIN:VCALENDAR
VERSION:2.0
PRODID:-//ChamberMaster//Event Calendar 2.0//EN
METHOD:PUBLISH
X-PUBLISHED-TTL:P3D
REFRESH-INTERVAL:P3D
CALSCALE:GREGORIAN
BEGIN:VEVENT
DTSTART:20210421T130000Z
DTEND:20210421T141500Z
X-MICROSOFT-CDO-ALLDAYEVENT:FALSE
SUMMARY:2021 Full Board Meeting
DESCRIPTION:The Board of Directors represent the business and professional leadership in the community. The board consists of 16 voting members that are each eligible to serve two three-year terms. In addition\, the CVB Board President-Elect and a Board Member of the Aberdeen Development Corporation serve one-year terms.   \n\n\n\nServing as non-voting members\, or ex-officios\, to the Board of Directors are representatives from the Aberdeen Downtown Association\, the Aberdeen Convention and Visitors Bureau\, and the Aberdeen Development Corporation.
X-ALT-DESC;FMTTYPE=text/html:<span style="font-size:12px\;"><span style="font-family:arial\;">The Board of Directors represent the business and professional leadership in the community. The board consists of 16 voting members that are each eligible to serve two three-year terms. In addition\, the&nbsp\;CVB&nbsp\;Board President-Elect and a Board Member of the Aberdeen Development Corporation serve one-year terms.&nbsp\; &nbsp\;<br />\n<br />\nServing as non-voting members\, or&nbsp\;ex-officios\, to the Board of Directors are representatives from the Aberdeen Downtown Association\, the Aberdeen Convention and Visitors Bureau\, and the Aberdeen Development Corporation.</span></span>
LOCATION:Join us in person in the Chamber board room or join via Zoom at: https://zoom.us/j/92516779919 Meeting ID: 925 1677 9919 One tap mobile: +13462487799\,\,92516779919# Please indicate how you will be participating in the comment section of your registration
UID:e.3086.6507
SEQUENCE:3
DTSTAMP:20260421T075409Z
URL:https://business.aberdeen-chamber.com/events/details/2021-full-board-meeting-04-21-2021-6507
END:VEVENT

END:VCALENDAR
