BEGIN:VCALENDAR
VERSION:2.0
PRODID:-//ChamberMaster//Event Calendar 2.0//EN
METHOD:PUBLISH
X-PUBLISHED-TTL:P3D
REFRESH-INTERVAL:P3D
CALSCALE:GREGORIAN
BEGIN:VEVENT
DTSTART:20210317T130000Z
DTEND:20210317T141500Z
X-MICROSOFT-CDO-ALLDAYEVENT:FALSE
SUMMARY:2021 Full Board Meeting
DESCRIPTION:
X-ALT-DESC;FMTTYPE=text/html:
LOCATION:Join Zoom Meeting https://zoom.us/j/99308990000 Meeting ID: 993 0899 0000 One tap mobile +13462487799\,\,99308990000#
UID:e.3086.6506
SEQUENCE:3
DTSTAMP:20260421T092336Z
URL:https://business.aberdeen-chamber.com/events/details/2021-full-board-meeting-03-17-2021-6506
END:VEVENT

END:VCALENDAR
