BEGIN:VCALENDAR
VERSION:2.0
PRODID:-//ChamberMaster//Event Calendar 2.0//EN
METHOD:PUBLISH
X-PUBLISHED-TTL:P3D
REFRESH-INTERVAL:P3D
CALSCALE:GREGORIAN
BEGIN:VEVENT
DTSTART:20210309T170000Z
DTEND:20210309T190000Z
X-MICROSOFT-CDO-ALLDAYEVENT:FALSE
SUMMARY:2021 Community Champions Luncheon
DESCRIPTION:The event will be held on Tuesday\, March 9\, 2021 at the Best Western Ramkota Hotel. The Community Champions Awards Luncheon recognizes volunteer leaders within Aberdeen and the region.\n\n\n\nThe following awards are presented on behalf of the Aberdeen Area Chamber of Commerce\, the Military & Veteran's Committee of the Chamber\, and the Prairie Family Business Association: The Woman of Spirit Award\; The George Award\; The STAR Award\; The Emerging Leader Award\; The ViTality Award\; The Aberdeen Area Family Business of the Year Award\; The Entrepreneur of the Year Award\, and several Military/Veteran Awards.\n\n\n\nATTENDEE INFORMATION\n\n\n\nThe health of all our attendees is a top priority for us! To keep everyone safe and healthy\, we ask everyone to follow a few simple health and hygiene practices:\n\n\n\n\n\n\nWASH\n\nWash your hands thoroughly with soapy water for at least 20 seconds.\n\n\n\nSANITIZE\n\nUse hand sanitizer in between hand washes\, and when washing isn't possible. Hand sanitizer will be available at luncheon.\n\n\n\nMONITOR\n\nMonitor your temperature and your health. If you're not feeling well and/or have a temperature of 100.4 degrees or higher\, please refrain from attending.\n\n\n\nMASK\n\nPlease wear a mask walking in and out of the event. Masks can be removed at your table so you may enjoy your meal. If you would like a mask but did not bring one\, there will be masks available at the registration table.\n\n\n\nSPACE\n\nRespect people's space and please keep to four people per table.\n\n\n\nThank you for being considerate of these requests!
X-ALT-DESC;FMTTYPE=text/html:<div class="MainText" data-gcf-font-size="10pt" style="font-family: Arial\, Helvetica\, sans-serif\; font-size: 10pt\; background-color: rgb(255\, 255\, 255)\;">\n<div><span style="font-size:12px\;"><span style="font-family:arial\;"><span style="color:#000000\;">The event will be held on Tuesday\, March 9\, 2021 at the Best Western Ramkota Hotel. The Community Champions Awards Luncheon recognizes volunteer leaders within Aberdeen and the region.<br />\n<br />\nThe following awards are presented on behalf of the Aberdeen Area Chamber of Commerce\, the Military &amp\; Veteran&rsquo\;s Committee of the Chamber\, and the Prairie Family Business Association: The Woman of Spirit&nbsp\;Award\; The George Award\; The STAR Award\; The Emerging Leader Award\; The ViTality Award\; The Aberdeen Area Family Business of the Year Award\; The Entrepreneur of the Year Award\, and several Military/Veteran Awards.</span></span></span><br />\n<br />\n<span style="font-size:12px\;"><span style="font-family:arial\;"><span style="color:#000000\;"><strong>ATTENDEE INFORMATION</strong></span></span></span><br />\n<br />\n<span style="font-size:12px\;"><span style="font-family:arial\;"><span style="color:#000000\;"><span style="margin: 0px\; padding: 0px\; border: 0px\; box-sizing: border-box\;"><span style="margin: 0px\; padding: 0px\; border: 0px\; box-sizing: border-box\; font-weight: bold\;"><strong>The health of all our attendees is a top priority for us</strong>!</span>&nbsp\;To keep everyone safe and healthy\, we ask everyone to follow a few simple health and hygiene practices:</span></span></span></span></div>\n\n<div class="Grid__row___2EVRh Grid__small___TmFkf" style="margin: 0px\; padding: 0px\; border: 0px\; box-sizing: border-box\; display: flex\; flex-wrap: wrap\; flex-grow: 1\; min-height: 1px\; font-family: Lato\, helvetica\, arial\, sans-serif\; font-size: 16px\; background-color: rgb(255\, 255\, 255)\;">\n<div class="Grid__column___3qV8b Grid__col_12___2TY3w Grid__small___TmFkf" style="margin: 0px\; padding: 0px\; border: 0px\; box-sizing: border-box\; position: relative\; min-height: 1px\; display: flex\; flex-direction: column\; flex: 1 1 0%\; max-width: 100%\;">\n<div class="Text__container___kYjSu" data-cvent-id="widget-NucleusText-widget:dc13e1db-fe04-4475-8b4e-110482f3d7fe" style="margin: 0px\; padding: 15px\; border: 0px\; box-sizing: border-box\; text-align: center\; overflow-wrap: break-word\; background-color: transparent\; border-radius: 0px\; flex: 1 1 auto\;">\n<div color:="" line-height:="" open="" style="margin: 0px\; padding: 10px 2.5rem 1.25rem\; border: 0px\; box-sizing: border-box\; background-color: transparent\; border-radius: 0px\; font-family: " text-align:="">\n<div class="css-vsf5of" style="margin: 0px\; padding: 0px\; border: 0px\; box-sizing: border-box\;">\n<p class="carina-rte-public-DraftStyleDefault-block" style="margin: 0px\; padding: 0px\; border: 0px\; box-sizing: border-box\; text-align: left\;"><span style="font-size:12px\;"><span style="font-family:arial\;"><span style="color:#000000\;"><span style="margin: 0px\; padding: 0px\; border: 0px\; box-sizing: border-box\;"><span style="margin: 0px\; padding: 0px\; border: 0px\; box-sizing: border-box\; font-weight: bold\;">WASH</span></span><br style="box-sizing: border-box\;" />\n<span style="margin: 0px\; padding: 0px\; border: 0px\; box-sizing: border-box\;">Wash your hands thoroughly with soapy water for at least 20 seconds.</span><br style="box-sizing: border-box\;" />\n<br style="box-sizing: border-box\;" />\n<span style="margin: 0px\; padding: 0px\; border: 0px\; box-sizing: border-box\;"><span style="margin: 0px\; padding: 0px\; border: 0px\; box-sizing: border-box\; font-weight: bold\;">SANITIZE</span></span><br style="box-sizing: border-box\;" />\n<span style="margin: 0px\; padding: 0px\; border: 0px\; box-sizing: border-box\;">Use hand sanitizer in between hand washes\, and when washing isn&#39\;t possible. Hand sanitizer will be available at luncheon.</span><br style="box-sizing: border-box\;" />\n<br style="box-sizing: border-box\;" />\n<span style="margin: 0px\; padding: 0px\; border: 0px\; box-sizing: border-box\;"><span style="margin: 0px\; padding: 0px\; border: 0px\; box-sizing: border-box\; font-weight: bold\;">MONITOR</span></span><br style="box-sizing: border-box\;" />\n<span style="margin: 0px\; padding: 0px\; border: 0px\; box-sizing: border-box\;">Monitor your temperature and your health. If you&#39\;re not feeling well and/or have a temperature of 100.4 degrees or higher\, please refrain from attending.</span><br style="box-sizing: border-box\;" />\n<br style="box-sizing: border-box\;" />\n<span style="margin: 0px\; padding: 0px\; border: 0px\; box-sizing: border-box\;"><span style="margin: 0px\; padding: 0px\; border: 0px\; box-sizing: border-box\; font-weight: bold\;">MASK</span></span><br style="box-sizing: border-box\;" />\n<span style="margin: 0px\; padding: 0px\; border: 0px\; box-sizing: border-box\;">Please wear a mask walking in and out of the event. Masks can be removed at your table so you may enjoy your meal. If you would like a mask but did not bring one\, there will be&nbsp\;masks available at the registration table.</span><br style="box-sizing: border-box\;" />\n<br style="box-sizing: border-box\;" />\n<span style="margin: 0px\; padding: 0px\; border: 0px\; box-sizing: border-box\;"><span style="margin: 0px\; padding: 0px\; border: 0px\; box-sizing: border-box\; font-weight: bold\;">SPACE</span></span><br style="box-sizing: border-box\;" />\n<span style="margin: 0px\; padding: 0px\; border: 0px\; box-sizing: border-box\;">Respect people&#39\;s space and please keep to four people per table.</span><br style="box-sizing: border-box\;" />\n<br style="box-sizing: border-box\;" />\n<span style="margin: 0px\; padding: 0px\; border: 0px\; box-sizing: border-box\;"><span style="margin: 0px\; padding: 0px\; border: 0px\; box-sizing: border-box\; font-weight: bold\;"><span style="margin: 0px\; padding: 0px\; border: 0px\; box-sizing: border-box\; font-style: italic\;">Thank you for being considerate of these requests!</span></span></span></span></span></span></p>\n</div>\n</div>\n</div>\n</div>\n</div>\n</div>\n
LOCATION:Best Western Ramkota Hotel
UID:e.3086.6872
SEQUENCE:3
DTSTAMP:20260421T092213Z
URL:https://business.aberdeen-chamber.com/events/details/2021-community-champions-luncheon-6872
END:VEVENT

END:VCALENDAR
