BEGIN:VCALENDAR
VERSION:2.0
PRODID:-//ChamberMaster//Event Calendar 2.0//EN
METHOD:PUBLISH
X-PUBLISHED-TTL:P3D
REFRESH-INTERVAL:P3D
CALSCALE:GREGORIAN
BEGIN:VEVENT
DTSTART:20210312T180000Z
DTEND:20210312T190000Z
X-MICROSOFT-CDO-ALLDAYEVENT:FALSE
SUMMARY:2021 Chamber Exec Board Meeting
DESCRIPTION:Please join us for lunch and meeting in the Chamber board room or If you prefer to join via zoom click here: https://zoom.us/j/91344863120 \n\nMeeting ID: 913 4486 3120\n\nOne tap mobile: +13462487799\,\,91344863120#
X-ALT-DESC;FMTTYPE=text/html:<p><span style="font-family:arial\;"><span style="font-size:12px\;"><span style="color:#000000\;">Please join us for lunch and meeting in the Chamber board room or If you prefer to join via zoom click here:&nbsp\;</span><a href="https://zoom.us/j/91344863120"><span style="color:#000000\;">https://zoom.us/j/91344863120</span></a><span style="color:#000000\;"> </span></span></span><o:p></o:p></p>\n\n<p><span style="color:#000000\;"><span style="font-family:arial\;"><span style="font-size:12px\;">Meeting ID: 913 4486 3120<br />\nOne tap mobile:&nbsp\;+13462487799\,\,91344863120#</span></span></span><br />\n<br />\n<o:p></o:p></p>\n
LOCATION:In person or via zoom
UID:e.3086.2756
SEQUENCE:3
DTSTAMP:20260421T092207Z
URL:https://business.aberdeen-chamber.com/events/details/2021-chamber-exec-board-meeting-2756
END:VEVENT

END:VCALENDAR
