BEGIN:VCALENDAR
VERSION:2.0
PRODID:-//ChamberMaster//Event Calendar 2.0//EN
METHOD:PUBLISH
X-PUBLISHED-TTL:P3D
REFRESH-INTERVAL:P3D
CALSCALE:GREGORIAN
BEGIN:VEVENT
DTSTART:20210512T170000Z
DTEND:20210512T180000Z
X-MICROSOFT-CDO-ALLDAYEVENT:FALSE
SUMMARY:2021 Chamber Exec Board Meeting
DESCRIPTION:
X-ALT-DESC;FMTTYPE=text/html:
LOCATION:Chamber Boardroom or via Zoom at https://zoom.us/j/91259737196 Meeting ID: 912 5973 7196 One tap mobile: +13462487799\,\,91259737196#
UID:e.3086.2758
SEQUENCE:3
DTSTAMP:20260421T062611Z
URL:https://business.aberdeen-chamber.com/events/details/2021-chamber-exec-board-meeting-05-13-2021-2758
END:VEVENT

END:VCALENDAR
