BEGIN:VCALENDAR
VERSION:2.0
PRODID:-//ChamberMaster//Event Calendar 2.0//EN
METHOD:PUBLISH
X-PUBLISHED-TTL:P3D
REFRESH-INTERVAL:P3D
CALSCALE:GREGORIAN
BEGIN:VEVENT
DTSTART:20200312T221500Z
DTEND:20200313T000000Z
X-MICROSOFT-CDO-ALLDAYEVENT:FALSE
SUMMARY:2020 March Business After Hours Mixer
DESCRIPTION:Join us on Thursday\, March 12th for our monthly Business After Hours Mixer at the BRAND NEW Allevity Entertainment.\n\nThis is a family-friendly event and participants are encouraged to bring their kids or grand kids aged 3 and over to the event! Allevity will supply all participant with a card \,which allows you to play all attractions until 7\;00 pm.\n\n \n\nCost to attend with your RSVP by March 11\, 2020: $15 for Chamber members\; $20 for non-members\; kids under 8 are free\; and over 8 are $5.00. Food and beverages will be catered by Allevity and Kessler's. \n\n \n\nThe Chamber membership drawing is at $200 and member must be present to win.
X-ALT-DESC;FMTTYPE=text/html:<div style="color: rgb(51\, 51\, 51)\; font-family: &quot\;Century Gothic&quot\;\, Calibri\, Helvetica\, Arial\, sans-serif\; font-size: 16px\; white-space: pre-wrap\; background-color: rgb(255\, 255\, 255)\;"><br />\n<span style="font-family:arial\;"><span style="font-size:14px\;"><span style="font-weight: bold\;">Join us on Thursday\, March 12th for our monthly Business After Hours Mixer at the BRAND NEW </span><a data-link-type="web" href="https://www.allevity.fun/" style="color: rgb(51\, 51\, 51)\; font-weight: bold\; font-size: 14px\;" target="_blank">Allevity Entertainment</a>.<br />\nThis is a family-friendly event and participants are encouraged to bring their kids or grand kids aged 3 and over to the event! Allevity will supply all participant with a card \,which allows you to play all attractions until 7\;00 pm.</span></span></div>\n\n<div style="color: rgb(51\, 51\, 51)\; font-family: &quot\;Century Gothic&quot\;\, Calibri\, Helvetica\, Arial\, sans-serif\; font-size: 16px\; white-space: pre-wrap\; background-color: rgb(255\, 255\, 255)\;">&nbsp\;</div>\n\n<div style="color: rgb(51\, 51\, 51)\; font-family: &quot\;Century Gothic&quot\;\, Calibri\, Helvetica\, Arial\, sans-serif\; font-size: 16px\; white-space: pre-wrap\; background-color: rgb(255\, 255\, 255)\;"><span style="font-family:arial\;"><span style="font-size:14px\;">Cost to attend with your RSVP by March 11\, 2020: $15 for Chamber members\; $20 for non-members\; kids under 8 are free\; and over 8 are $5.00. Food and beverages will be catered by Allevity and Kessler&#39\;s. </span></span></div>\n\n<div style="color: rgb(51\, 51\, 51)\; font-family: &quot\;Century Gothic&quot\;\, Calibri\, Helvetica\, Arial\, sans-serif\; font-size: 16px\; white-space: pre-wrap\; background-color: rgb(255\, 255\, 255)\;">&nbsp\;</div>\n\n<div style="color: rgb(51\, 51\, 51)\; font-family: &quot\;Century Gothic&quot\;\, Calibri\, Helvetica\, Arial\, sans-serif\; font-size: 16px\; white-space: pre-wrap\; background-color: rgb(255\, 255\, 255)\;"><span style="font-family:arial\;"><span style="font-size:14px\;">The Chamber membership drawing is at $200 and member must be present to win.</span></span></div>\n\n<div style="color: rgb(51\, 51\, 51)\; font-family: &quot\;Century Gothic&quot\;\, Calibri\, Helvetica\, Arial\, sans-serif\; font-size: 16px\; white-space: pre-wrap\; background-color: rgb(255\, 255\, 255)\;">&nbsp\;</div>\n
LOCATION:Allevity Entertainment 130 S Centennial Street
UID:e.3086.6355
SEQUENCE:3
DTSTAMP:20260422T023017Z
URL:https://business.aberdeen-chamber.com/events/details/2020-march-business-after-hours-mixer-6355
END:VEVENT

END:VCALENDAR
