BEGIN:VCALENDAR
VERSION:2.0
PRODID:-//ChamberMaster//Event Calendar 2.0//EN
METHOD:PUBLISH
X-PUBLISHED-TTL:P3D
REFRESH-INTERVAL:P3D
CALSCALE:GREGORIAN
BEGIN:VEVENT
DTSTART:20200109T180000Z
DTEND:20200109T190000Z
X-MICROSOFT-CDO-ALLDAYEVENT:FALSE
SUMMARY:2020 Community Affairs Luncheon
DESCRIPTION:Join us for the Community Affairs luncheon as we hear from Dr. Tim Downs\, President of Northern State University\, and Dr. Paula Langteau\, President of Presentation College. They will each present on the state of the University/College.
X-ALT-DESC;FMTTYPE=text/html:<span _mce_style="font-size: 10pt\;" color="#000000" style="font-family: Arial\, Helvetica\, sans-serif\; font-size: 10pt\;">Join us for the&nbsp\;Community Affairs luncheon&nbsp\;as we hear from&nbsp\;</span><span style="font-size: 12px\; font-family: calibri\, sans-serif\;"><span style="font-size: 11pt\;">Dr. Tim Downs\, President of Northern State University\, and Dr. Paula Langteau</span></span><span _mce_style="font-size: 10pt\;" color="#000000" style="font-family: Arial\, Helvetica\, sans-serif\; font-size: 10pt\;">\, President of Presentation College. They will each present on the&nbsp\;state of the University/College.</span>
LOCATION:Best Western Ramkota
UID:e.3086.6383
SEQUENCE:3
DTSTAMP:20260422T053849Z
URL:https://business.aberdeen-chamber.com/events/details/2020-community-affairs-luncheon-6383
END:VEVENT

END:VCALENDAR
