BEGIN:VCALENDAR
VERSION:2.0
PRODID:-//ChamberMaster//Event Calendar 2.0//EN
METHOD:PUBLISH
X-PUBLISHED-TTL:P3D
REFRESH-INTERVAL:P3D
CALSCALE:GREGORIAN
BEGIN:VEVENT
DTSTART:20180827T220000Z
DTEND:20180828T000000Z
X-MICROSOFT-CDO-ALLDAYEVENT:FALSE
SUMMARY:2018 Table of Plenty Night
DESCRIPTION:The Chamber Ambassadors and Diplomats volunteer to serve an evening meal at Zion Lutheran Church. Volunteers serve over 300 people that come to have a good meal and conversation.  Want to volunteer\, contact the Chamber at (605) 225-2860.
X-ALT-DESC;FMTTYPE=text/html:<h2 style="margin-top:.25in\;margin-right:0in\;margin-bottom:.25in\;margin-left:-4.5pt\;line-height:normal\;"><span style="font-weight:normal\;"><span style="color:windowtext\;"><span style="font-family:book antiqua\,serif\;"><span style="font-size:11.0pt\;">The Chamber Ambassadors and Diplomats volunteer to serve an evening meal at Zion Lutheran Church. Volunteers serve over 300 people that come to have a good meal and conversation.&nbsp\; Want to volunteer\, contact the Chamber at (605) 225-2860.</span></span></span></span></h2>\n
LOCATION:Zion Lutheran Church
UID:e.3086.5246
SEQUENCE:3
DTSTAMP:20260423T065201Z
URL:https://business.aberdeen-chamber.com/events/details/2018-table-of-plenty-night-5246
END:VEVENT

END:VCALENDAR
