BEGIN:VCALENDAR
VERSION:2.0
PRODID:-//ChamberMaster//Event Calendar 2.0//EN
METHOD:PUBLISH
X-PUBLISHED-TTL:P3D
REFRESH-INTERVAL:P3D
CALSCALE:GREGORIAN
BEGIN:VEVENT
DTSTART:20180813T170000Z
DTEND:20180813T180000Z
X-MICROSOFT-CDO-ALLDAYEVENT:FALSE
SUMMARY:2018 New Faculty Luncheon
DESCRIPTION:The Workforce & Education Committee of the Aberdeen Area Chamber of Commerce is proud to host the New Faculty Luncheon on Monday\, August 13\, 2018 at the Dakota Event Center of Aberdeen. The luncheon runs from 12:00 - 1:00 pm and is a wonderful opportunity to welcome new teachers to our community. For more information\, please call Lisa Anderson at 225-2860 or email: lisa@aberdeen-chamber.com
X-ALT-DESC;FMTTYPE=text/html:<h3><br />\n<span style="font-family:arial\;"><font size="2">The Workforce &amp\; Education Committee of the Aberdeen Area Chamber of Commerce is proud to host the&nbsp\;<strong>New Faculty Luncheon </strong>on Monday\, August 13\, 2018&nbsp\;at the&nbsp\;Dakota Event Center of Aberdeen. The luncheon runs from 12:00 - 1:00 pm and is a wonderful opportunity to welcome new teachers to our community.&nbsp\;</font></span><span style="font-family:arial\;"><font size="4"><font size="2">For more information\,&nbsp\;please call Lisa Anderson at 225-2860 or email: </font><a href="mailto:lisa@aberdeen-chamber.com" target="_blank"><font size="2">lisa@aberdeen-chamber.com</font></a></font></span></h3>\n
LOCATION:Dakota Event Center
UID:e.3086.5244
SEQUENCE:3
DTSTAMP:20260423T064252Z
URL:https://business.aberdeen-chamber.com/events/details/2018-new-faculty-luncheon-5244
END:VEVENT

END:VCALENDAR
