BEGIN:VCALENDAR
VERSION:2.0
PRODID:-//ChamberMaster//Event Calendar 2.0//EN
METHOD:PUBLISH
X-PUBLISHED-TTL:P3D
REFRESH-INTERVAL:P3D
CALSCALE:GREGORIAN
BEGIN:VEVENT
DTSTART:20180608T180000Z
DTEND:20180609T220000Z
X-MICROSOFT-CDO-ALLDAYEVENT:FALSE
SUMMARY:2018 Livestock Show
DESCRIPTION:The Agriculture Committee of the Aberdeen Area Chamber of Commerce has hosted the Northern Plains Livestock Show for over 25 years. Participants from over 10 counties in South Dakota and bordering states participate at the event held at Brown County Fairgrounds Expo Building. \n\n\n\nIn 2018\, the show will run on Friday\, June 8th and Saturday\, June 9th. The show is a sanctioned beef\, lamb\, goat and swine show with the South Dakota Junior Points Program. We work closely with other shows and extension offices around the region\, and state to coordinate efforts on dates\, and hopefully avoid duplication of shows on the same date. \n\n\n\nYou can find the Contestant Packet here.\n\n\n\nSpecial thanks to Glacial Lakes Energy for being the major sponsor of this event!\n\n\n\nContact Lisa Anderson at (605) 225-2860 or email for more information.
X-ALT-DESC;FMTTYPE=text/html:<span style="color: rgb(44\, 44\, 44)\; font-family: Arial\; font-size: 14.4px\; background-color: rgb(255\, 255\, 255)\;">The Agriculture Committee of the Aberdeen Area Chamber of Commerce has hosted the Northern Plains&nbsp\;Livestock Show for over 25 years. Participants from over 10 counties in South Dakota and bordering states participate at the event held at Brown County Fairgrounds Expo Building.&nbsp\;</span><br style="box-sizing: border-box\; color: rgb(44\, 44\, 44)\; font-family: Arial\; font-size: 14.4px\; background-color: rgb(255\, 255\, 255)\;" />\n<br style="box-sizing: border-box\; color: rgb(44\, 44\, 44)\; font-family: Arial\; font-size: 14.4px\; background-color: rgb(255\, 255\, 255)\;" />\n<span style="color: rgb(44\, 44\, 44)\; font-family: Arial\; font-size: 14.4px\; background-color: rgb(255\, 255\, 255)\;">In 2018\, the show will run on Friday\, June&nbsp\;8th&nbsp\;and Saturday\, June&nbsp\;9th. The show is a sanctioned beef\, lamb\, goat and swine show with the South Dakota Junior Points Program. We work closely with other shows and extension offices around the region\, and state to coordinate efforts on dates\, and hopefully avoid duplication of shows on the same date.&nbsp\;</span><br style="box-sizing: border-box\; color: rgb(44\, 44\, 44)\; font-family: Arial\; font-size: 14.4px\; background-color: rgb(255\, 255\, 255)\;" />\n<br style="box-sizing: border-box\; color: rgb(44\, 44\, 44)\; font-family: Arial\; font-size: 14.4px\; background-color: rgb(255\, 255\, 255)\;" />\n<span style="color: rgb(44\, 44\, 44)\; font-family: Arial\; font-size: 14.4px\; background-color: rgb(255\, 255\, 255)\;">You can find the Contestant Packet&nbsp\;</span><a class="Hyperlink" href="http://www.aberdeen-chamber.com/DocumentCenter/View/623/NPLS" rel="noopener" style="color: rgb(8\, 77\, 139)\; box-sizing: border-box\; font-family: Arial\; font-size: 14.4px\; background-color: rgb(255\, 255\, 255)\;" target="_blank" title="NPLS Contestant Packet">here</a><span style="color: rgb(44\, 44\, 44)\; font-family: Arial\; font-size: 14.4px\; background-color: rgb(255\, 255\, 255)\;">.</span><br style="box-sizing: border-box\; color: rgb(44\, 44\, 44)\; font-family: Arial\; font-size: 14.4px\; background-color: rgb(255\, 255\, 255)\;" />\n<br style="box-sizing: border-box\; color: rgb(44\, 44\, 44)\; font-family: Arial\; font-size: 14.4px\; background-color: rgb(255\, 255\, 255)\;" />\n<span style="color: rgb(44\, 44\, 44)\; font-family: Arial\; font-size: 14.4px\; background-color: rgb(255\, 255\, 255)\;">Special thanks to Glacial Lakes Energy for being the major sponsor of this event!</span><br style="box-sizing: border-box\; color: rgb(44\, 44\, 44)\; font-family: Arial\; font-size: 14.4px\; background-color: rgb(255\, 255\, 255)\;" />\n<br style="box-sizing: border-box\; color: rgb(44\, 44\, 44)\; font-family: Arial\; font-size: 14.4px\; background-color: rgb(255\, 255\, 255)\;" />\n<span style="color: rgb(44\, 44\, 44)\; font-family: Arial\; font-size: 14.4px\; background-color: rgb(255\, 255\, 255)\;">Contact Lisa Anderson at (605) 225-2860 or&nbsp\;</span><a class="Hyperlink" href="mailto:lisa@aberdeen-chamber.com" originalpath="" style="color: rgb(8\, 77\, 139)\; box-sizing: border-box\; font-family: Arial\; font-size: 14.4px\; background-color: rgb(255\, 255\, 255)\;" target="originalAttribute">email</a><span style="color: rgb(44\, 44\, 44)\; font-family: Arial\; font-size: 14.4px\; background-color: rgb(255\, 255\, 255)\;">&nbsp\;for more information.</span>
LOCATION:Brown County Fairgrounds Holum Expo
UID:e.3086.5241
SEQUENCE:3
DTSTAMP:20260423T093358Z
URL:https://business.aberdeen-chamber.com/events/details/2018-livestock-show-5241
END:VEVENT

END:VCALENDAR
