BEGIN:VCALENDAR
VERSION:2.0
PRODID:-//ChamberMaster//Event Calendar 2.0//EN
METHOD:PUBLISH
X-PUBLISHED-TTL:P3D
REFRESH-INTERVAL:P3D
CALSCALE:GREGORIAN
BEGIN:VEVENT
DTSTART:20180601T140000Z
DTEND:20180601T160000Z
X-MICROSOFT-CDO-ALLDAYEVENT:FALSE
SUMMARY:2018 Legislative Candidate Budget Discussion
DESCRIPTION:Are you a candidate for the South Dakota Legislature?\n\n\n\nThe Community Affairs Committee of the Aberdeen Area Chamber of Commerce is proud to partner with the South Dakota Budget & Policy Institute to host a FREE session on South Dakota budget and fiscal policy information for 2019 Legislative candidates.\n\n\n \n\nIn Aberdeen\, the session will be held on Friday\, June 1st from 9:00 am - 11:00 am at the K.O. Lee Aberdeen Public Library Room 111. \n\n \n\nThe South Dakota Budget & Policy Institute is a SD 501c3 non-profit that researches and shares nonpartisan analysis concerning South Dakota's budget process and fiscal policy. For the past three election cycles\, their research on these topics was shared with legislative candidates across the state. \n\n \n\nRSVP is required by May 22\, 2018.  To RSVP\, call or email Joy at (605) 929-1244 or joys@sdbpi.org
X-ALT-DESC;FMTTYPE=text/html:<div style="color: rgb(69\, 69\, 69)\; font-family: Arial\, Helvetica\, sans-serif\; font-size: 14.6667px\;">\n<div _mce_style="font-size: 12pt\;" style="font-size: 12pt\;"><br />\n<span style="font-size:12px\;"><span style="font-family:arial\;"><strong>Are you a candidate for the South Dakota Legislature?</strong><br />\n<br />\nThe Community Affairs Committee of the Aberdeen Area Chamber of Commerce is proud to partner with the&nbsp\;<span _mce_style="color: #454545\; font-family: Arial\, Helvetica\, sans-serif\;">South Dakota Budget &amp\; Policy Institute</span>&nbsp\;to host a&nbsp\;<strong>FREE session on South Dakota budget and fiscal policy information</strong>&nbsp\;for 2019 Legislative candidates.</span></span></div>\n</div>\n\n<div _mce_style="font-size: 10pt\;" style="color: rgb(69\, 69\, 69)\; font-family: Arial\, Helvetica\, sans-serif\; font-size: 10pt\;">&nbsp\;</div>\n\n<div _mce_style="font-size: 10pt\;" style="color: rgb(69\, 69\, 69)\; font-family: Arial\, Helvetica\, sans-serif\; font-size: 10pt\;"><span style="font-size:12px\;"><span style="font-family:arial\;"><strong>In Aberdeen\, the session will be held on&nbsp\;Friday\, June 1st from 9:00 am - 11:00 am at the K.O. Lee Aberdeen Public Library Room 111.&nbsp\;</strong></span></span></div>\n\n<div _mce_style="font-size: 10pt\;" style="color: rgb(69\, 69\, 69)\; font-family: Arial\, Helvetica\, sans-serif\; font-size: 10pt\;">&nbsp\;</div>\n\n<div _mce_style="font-size: 10pt\;" style="color: rgb(69\, 69\, 69)\; font-family: Arial\, Helvetica\, sans-serif\; font-size: 10pt\;"><span style="font-size:12px\;"><span style="font-family:arial\;">The South Dakota Budget &amp\; Policy Institute&nbsp\;is a SD 501c3 non-profit that researches and shares nonpartisan analysis concerning South Dakota&#39\;s budget process and fiscal policy. For the past three election cycles\, their research on these topics was shared with legislative candidates across the state.&nbsp\;</span></span></div>\n\n<div _mce_style="font-size: 10pt\;" style="color: rgb(69\, 69\, 69)\; font-family: Arial\, Helvetica\, sans-serif\; font-size: 10pt\;">&nbsp\;</div>\n\n<div _mce_style="font-size: 10pt\;" style="color: rgb(69\, 69\, 69)\; font-family: Arial\, Helvetica\, sans-serif\; font-size: 10pt\;"><span style="font-size:12px\;"><span style="font-family:arial\;">RSVP is required by May 22\, 2018.&nbsp\; To RSVP\,&nbsp\;call or email Joy at (605) 929-1244 or joys@sdbpi.org</span></span></div>\n
LOCATION:K.O. Lee Aberdeen Public Library Room 111
UID:e.3086.5234
SEQUENCE:3
DTSTAMP:20260423T094424Z
URL:https://business.aberdeen-chamber.com/events/details/2018-legislative-candidate-budget-discussion-5234
END:VEVENT

END:VCALENDAR
