BEGIN:VCALENDAR
VERSION:2.0
PRODID:-//ChamberMaster//Event Calendar 2.0//EN
METHOD:PUBLISH
X-PUBLISHED-TTL:P3D
REFRESH-INTERVAL:P3D
CALSCALE:GREGORIAN
BEGIN:VEVENT
DTSTART:20180819T120000Z
DTEND:20180819T150000Z
X-MICROSOFT-CDO-ALLDAYEVENT:FALSE
SUMMARY:2018 Brown County Fair Breakfast
DESCRIPTION:The Aberdeen Area Chamber of Commerce with local sponsor\, Hub City Radio\, will host the 2018 Brown County Fair Breakfast on Sunday\, August 19\, 2018 at the Brown County Fairgrounds Clubhouse. Cost for the breakfast is $5 for adults and children over 6. Children 6 and under eat free!  Interested in volunteering for the event\, contact the Chamber at 225-2860 or email: lisa@aberdeen-chamber.com
X-ALT-DESC;FMTTYPE=text/html:<p>The&nbsp\;Aberdeen Area Chamber of Commerce with local sponsor\, Hub City Radio\, will host the 2018 Brown County Fair Breakfast on Sunday\, August 19\, 2018&nbsp\;at the Brown County Fairgrounds Clubhouse.&nbsp\;Cost for the breakfast is $5 for adults and children over 6. Children 6 and under eat free!&nbsp\; Interested in volunteering for the event\, contact the Chamber at 225-2860 or email: <a href="mailto:lisa@aberdeen-chamber.com" target="_blank">lisa@aberdeen-chamber.com</a></p>\n\n<p>&nbsp\;</p>\n\n<p>&nbsp\;</p>\n
LOCATION:Brown County Fairgrounds Clubhouse
UID:e.3086.1538
SEQUENCE:3
DTSTAMP:20260423T063647Z
URL:https://business.aberdeen-chamber.com/events/details/2018-brown-county-fair-breakfast-1538
END:VEVENT

END:VCALENDAR
