BEGIN:VCALENDAR
VERSION:2.0
PRODID:-//ChamberMaster//Event Calendar 2.0//EN
METHOD:PUBLISH
X-PUBLISHED-TTL:P3D
REFRESH-INTERVAL:P3D
CALSCALE:GREGORIAN
BEGIN:VEVENT
DTSTART:20180823T170000Z
DTEND:20180823T180000Z
X-MICROSOFT-CDO-ALLDAYEVENT:FALSE
SUMMARY:2018 Ag Committee Meeting
DESCRIPTION:Guest speaker will be Lynn Tjeerdsma with Senator John Thune's office.\n\nLunch will be from Wishbone's and Farmboy (both in the mall).
X-ALT-DESC;FMTTYPE=text/html:Guest speaker will be Lynn Tjeerdsma with Senator John Thune&rsquo\;s office.<br />\nLunch will be from Wishbone&rsquo\;s and Farmboy (both in the mall).&nbsp\;
LOCATION:SDSU Extension Building
UID:e.3086.1498
SEQUENCE:3
DTSTAMP:20260423T064344Z
URL:https://business.aberdeen-chamber.com/events/details/2017-ag-committee-08-16-2018-1498
END:VEVENT

END:VCALENDAR
