BEGIN:VCALENDAR
VERSION:2.0
PRODID:-//ChamberMaster//Event Calendar 2.0//EN
METHOD:PUBLISH
X-PUBLISHED-TTL:P3D
REFRESH-INTERVAL:P3D
CALSCALE:GREGORIAN
BEGIN:VEVENT
DTSTART:20180719T170000Z
DTEND:20180719T180000Z
X-MICROSOFT-CDO-ALLDAYEVENT:FALSE
SUMMARY:2018 Ag Committee Meeting
DESCRIPTION:
X-ALT-DESC;FMTTYPE=text/html:
LOCATION:SDSU Extension Office
UID:e.3086.1497
SEQUENCE:3
DTSTAMP:20260423T080529Z
URL:https://business.aberdeen-chamber.com/events/details/2017-ag-committee-07-19-2018-1497
END:VEVENT

END:VCALENDAR
